BEGIN:VCALENDAR
VERSION:2.0
PRODID:-//Starters Centrum Limburg - ECPv6.15.17//NONSGML v1.0//EN
CALSCALE:GREGORIAN
METHOD:PUBLISH
X-ORIGINAL-URL:https://starterscentrum.nl
X-WR-CALDESC:Evenementen voor Starters Centrum Limburg
REFRESH-INTERVAL;VALUE=DURATION:PT1H
X-Robots-Tag:noindex
X-PUBLISHED-TTL:PT1H
BEGIN:VTIMEZONE
TZID:UTC
BEGIN:STANDARD
TZOFFSETFROM:+0000
TZOFFSETTO:+0000
TZNAME:UTC
DTSTART:20250101T000000
END:STANDARD
END:VTIMEZONE
BEGIN:VEVENT
DTSTART;TZID=UTC:20261014T190000
DTEND;TZID=UTC:20261014T213000
DTSTAMP:20260420T232043
CREATED:20251204T150530Z
LAST-MODIFIED:20260301T150319Z
UID:10000031-1792004400-1792013400@starterscentrum.nl
SUMMARY:Een goede start met de Belastingdienst NL
DESCRIPTION:Let op\, dit seminar is alleen te volgen in het Nederlands. \nAls je een bedrijf start moet je direct veel zaken goed regelen en krijg je ook te maken met de Belastingdienst. De aanmelding bij de Belastingdienst loopt bijna altijd via de inschrijving bij de Kamer van Koophandel. Je wordt tijdens dit seminar geïnformeerd over onder andere de BTW\, de inkomstenbelasting en een aantal belangrijke fiscale regelingen en regels die voor jou gelden. Onderwerpen die aan bod komen zijn o.a.: \n\nfiscale voordelen inkomstenbelasting zoals de zelfstandigen- en startersaftrek\nBTW en de nieuwe kleineondernemersregeling (KOR)\ngebruik van de auto\, privé of van de zaak\nwerkruimte/kantoor in huis\nderegulering beoordeling arbeidsrelatie (DBA)\neisen aan jouw administratie\naanloopkosten bij de start en de vraag of een boekhouder verplicht is\n\nDit seminar wordt verzorgd door medewerkers van de Belastingdienst en ingeleid door het StartersCentrum.
URL:https://starterscentrum.nl/agenda/goede-start-met-de-belastingdienst-nl-3/
LOCATION:Heerlen\, Ruys de Beerenbroucklaan 29\, 6417 CC Heerlen
CATEGORIES:Heerlen
ATTACH;FMTTYPE=image/webp:https://starterscentrum.nl/wp-content/uploads/2025/10/StartersCentrum-Event-EenGoedeStartMetDeBelasringdienst.webp
END:VEVENT
BEGIN:VEVENT
DTSTART;TZID=UTC:20261105T133000
DTEND;TZID=UTC:20261105T160000
DTSTAMP:20260420T232043
CREATED:20251204T150718Z
LAST-MODIFIED:20260301T150400Z
UID:10000033-1793885400-1793894400@starterscentrum.nl
SUMMARY:Start Smart!
DESCRIPTION:Let op\, dit seminar is alleen te volgen in het Nederlands. \nWat betekent het om ondernemer te zijn? Waar moet je overal aan denken bij het starten? Hoe zit het met de inschrijving bij de Kamer van Koophandel? Waarom een ondernemingsplan? Welke rechtsvorm kies je? Wat is een ZZP’er of freelancer precies? Waarom een marketingplan? Met wat voor belastingen krijg je te maken? Wat is een investerings- en exploitatiebegroting? Wat zijn je financieringsmogelijkheden? Tijdens deze startersoriëntatie bijeenkomst krijg je antwoord op deze en andere vragen. Je bent zo beter voorbereid bij de start van jouw bedrijf en weet wat er van je verlangd wordt. Start smart!
URL:https://starterscentrum.nl/agenda/start-smart-10/
LOCATION:Heerlen\, Ruys de Beerenbroucklaan 29\, 6417 CC Heerlen
CATEGORIES:Heerlen
ATTACH;FMTTYPE=image/webp:https://starterscentrum.nl/wp-content/uploads/2025/10/StartersCentrum-Event-StartSmart-scaled.webp
END:VEVENT
BEGIN:VEVENT
DTSTART;TZID=UTC:20261209T183000
DTEND;TZID=UTC:20261209T223000
DTSTAMP:20260420T232043
CREATED:20251204T151012Z
LAST-MODIFIED:20260301T150458Z
UID:10000035-1796841000-1796855400@starterscentrum.nl
SUMMARY:STARTERSEVENT
DESCRIPTION:Let op\, dit seminar is alleen te volgen in het Nederlands. \nInformatie over dit event volgt…
URL:https://starterscentrum.nl/agenda/startersevent-5/
LOCATION:Raadhuis van Heerlen\, Geleenstraat 27\, 6411 HR
CATEGORIES:Heerlen
ATTACH;FMTTYPE=image/webp:https://starterscentrum.nl/wp-content/uploads/2025/10/StartersCentrum-Event-Heerlen-scaled.webp
END:VEVENT
END:VCALENDAR