BEGIN:VCALENDAR
VERSION:2.0
PRODID:-//Starters Centrum Limburg - ECPv6.15.17//NONSGML v1.0//EN
CALSCALE:GREGORIAN
METHOD:PUBLISH
X-WR-CALNAME:Starters Centrum Limburg
X-ORIGINAL-URL:https://starterscentrum.nl
X-WR-CALDESC:Evenementen voor Starters Centrum Limburg
REFRESH-INTERVAL;VALUE=DURATION:PT1H
X-Robots-Tag:noindex
X-PUBLISHED-TTL:PT1H
BEGIN:VTIMEZONE
TZID:UTC
BEGIN:STANDARD
TZOFFSETFROM:+0000
TZOFFSETTO:+0000
TZNAME:UTC
DTSTART:20250101T000000
END:STANDARD
END:VTIMEZONE
BEGIN:VEVENT
DTSTART;TZID=UTC:20261209T183000
DTEND;TZID=UTC:20261209T223000
DTSTAMP:20260421T044112
CREATED:20251204T151012Z
LAST-MODIFIED:20260301T150458Z
UID:10000035-1796841000-1796855400@starterscentrum.nl
SUMMARY:STARTERSEVENT
DESCRIPTION:Let op\, dit seminar is alleen te volgen in het Nederlands. \nInformatie over dit event volgt…
URL:https://starterscentrum.nl/agenda/startersevent-5/
LOCATION:Raadhuis van Heerlen\, Geleenstraat 27\, 6411 HR
CATEGORIES:Heerlen
ATTACH;FMTTYPE=image/webp:https://starterscentrum.nl/wp-content/uploads/2025/10/StartersCentrum-Event-Heerlen-scaled.webp
END:VEVENT
END:VCALENDAR