BEGIN:VCALENDAR
VERSION:2.0
PRODID:-//Starters Centrum Limburg - ECPv6.15.17//NONSGML v1.0//EN
CALSCALE:GREGORIAN
METHOD:PUBLISH
X-WR-CALNAME:Starters Centrum Limburg
X-ORIGINAL-URL:https://starterscentrum.nl
X-WR-CALDESC:Evenementen voor Starters Centrum Limburg
REFRESH-INTERVAL;VALUE=DURATION:PT1H
X-Robots-Tag:noindex
X-PUBLISHED-TTL:PT1H
BEGIN:VTIMEZONE
TZID:UTC
BEGIN:STANDARD
TZOFFSETFROM:+0000
TZOFFSETTO:+0000
TZNAME:UTC
DTSTART:20250101T000000
END:STANDARD
END:VTIMEZONE
BEGIN:VEVENT
DTSTART;TZID=UTC:20260513T190000
DTEND;TZID=UTC:20260513T213000
DTSTAMP:20260420T110041
CREATED:20251021T171147Z
LAST-MODIFIED:20260301T150029Z
UID:10000007-1778698800-1778707800@starterscentrum.nl
SUMMARY:A Good start with the tax authority EN
DESCRIPTION:Let op\, dit seminar is alleen te volgen in het Engels. \nWhen starting a business\, you need to get many things in order right away\, including dealing with the Tax Administration. Registration with the Tax Administration almost always happens through the registration at the Chamber of Commerce. During this seminar\, you will be informed about topics such as VAT\, income tax\, and several important tax regulations and rules that apply to you. Subjects covered include: \n\nTax benefits for income tax\, such as the self-employed and start-up deductions\nVAT and the new small business scheme (KOR)\nUse of a car: private or business use\nWorkspace/home office\nDeregulation of labor relationship assessment (DBA)\nRequirements for your administration\nStart-up costs and the question of whether hiring an accountant is mandatory\n\nThis seminar is presented by employees of the Tax Administration and introduced by the StartersCentrum.
URL:https://starterscentrum.nl/agenda/a-good-start-with-the-tax-authority-en/
LOCATION:Heerlen\, Ruys de Beerenbroucklaan 29\, 6417 CC Heerlen
CATEGORIES:Heerlen
ATTACH;FMTTYPE=image/webp:https://starterscentrum.nl/wp-content/uploads/2025/10/StartersCentrum-Event-GoodStartWithTheTaxAuthority.webp
END:VEVENT
END:VCALENDAR